BEGIN:VCALENDAR
VERSION:2.0
PRODID:-//Markham Arts Council - ECPv6.13.2.1//NONSGML v1.0//EN
CALSCALE:GREGORIAN
METHOD:PUBLISH
X-ORIGINAL-URL:https://www.markhamartscouncil.com
X-WR-CALDESC:Events for Markham Arts Council
REFRESH-INTERVAL;VALUE=DURATION:PT1H
X-Robots-Tag:noindex
X-PUBLISHED-TTL:PT1H
BEGIN:VTIMEZONE
TZID:America/Toronto
BEGIN:DAYLIGHT
TZOFFSETFROM:-0500
TZOFFSETTO:-0400
TZNAME:EDT
DTSTART:20250309T070000
END:DAYLIGHT
BEGIN:STANDARD
TZOFFSETFROM:-0400
TZOFFSETTO:-0500
TZNAME:EST
DTSTART:20251102T060000
END:STANDARD
END:VTIMEZONE
BEGIN:VEVENT
DTSTART;TZID=America/Toronto:20250720T150000
DTEND;TZID=America/Toronto:20250720T180000
DTSTAMP:20260421T042148
CREATED:20250711T011238Z
LAST-MODIFIED:20250711T011346Z
UID:1600-1753023600-1753034400@www.markhamartscouncil.com
SUMMARY:John Pagnotta
DESCRIPTION:Mostly Non English Music – NO \nGenre(s) – Jazz
URL:https://www.markhamartscouncil.com/event/john-pagnotta/
LOCATION:SQ Medi Spa\, SQ Medi Spa\, Markham\, Ontario\, India
END:VEVENT
BEGIN:VEVENT
DTSTART;TZID=America/Toronto:20250718T170000
DTEND;TZID=America/Toronto:20250718T200000
DTSTAMP:20260421T042148
CREATED:20250711T010750Z
LAST-MODIFIED:20250711T010918Z
UID:1565-1752858000-1752868800@www.markhamartscouncil.com
SUMMARY:Isabella Morency
DESCRIPTION:Mostly Non English Music – NO \nGenre(s) – Covers of a variety of genres and sing along
URL:https://www.markhamartscouncil.com/event/isabella-morency/
LOCATION:Varley Art Gallery Courtyard\, Markham\, Ontario\, Canada
END:VEVENT
BEGIN:VEVENT
DTSTART;TZID=America/Toronto:20250712T150000
DTEND;TZID=America/Toronto:20250712T180000
DTSTAMP:20260421T042148
CREATED:20250707T163408Z
LAST-MODIFIED:20250707T163722Z
UID:1560-1752332400-1752343200@www.markhamartscouncil.com
SUMMARY:Love And Light Muses
DESCRIPTION:Mostly Non English Music – NO \nGenre(s) – Rock\, Pop\, Jazz\, World/Folk/Indie\, Chinese (Mandarin\, Cantonese) pop and oldies
URL:https://www.markhamartscouncil.com/event/love-and-light-muses/
LOCATION:Planing Mill\, Planing Mill\, Markham\, Ontario\, India
END:VEVENT
BEGIN:VEVENT
DTSTART;TZID=America/Toronto:20250711T170000
DTEND;TZID=America/Toronto:20250711T200000
DTSTAMP:20260421T042148
CREATED:20250707T162801Z
LAST-MODIFIED:20250707T162801Z
UID:1545-1752253200-1752264000@www.markhamartscouncil.com
SUMMARY:Clockwerks
DESCRIPTION:Mostly Non English Music – NO \nGenre(s) – Jazz\, Electronic/Dance
URL:https://www.markhamartscouncil.com/event/clockwerks/
LOCATION:Varley Art Gallery Courtyard\, Markham\, Ontario\, Canada
END:VEVENT
BEGIN:VEVENT
DTSTART;TZID=America/Toronto:20250628T150000
DTEND;TZID=America/Toronto:20250628T180000
DTSTAMP:20260421T042148
CREATED:20250612T222919Z
LAST-MODIFIED:20250612T222959Z
UID:1453-1751122800-1751133600@www.markhamartscouncil.com
SUMMARY:Casual Labour
DESCRIPTION:Mostly Non English Music – NO \nGenre(s) – Rock\, Pop
URL:https://www.markhamartscouncil.com/event/casual-labour/
LOCATION:Unionville Arms\, Unionville Arms\, markham\, Ontario\, India
END:VEVENT
BEGIN:VEVENT
DTSTART;TZID=America/Toronto:20250627T170000
DTEND;TZID=America/Toronto:20250627T200000
DTSTAMP:20260421T042148
CREATED:20250612T222729Z
LAST-MODIFIED:20250612T222729Z
UID:1451-1751043600-1751054400@www.markhamartscouncil.com
SUMMARY:Corsh Music
DESCRIPTION:Mostly Non English Music – Yes \nGenre(s) – Pop\, Jazz\, R&B
URL:https://www.markhamartscouncil.com/event/corsh-music/
LOCATION:Varley Art Gallery Courtyard\, Markham\, Ontario\, Canada
END:VEVENT
BEGIN:VEVENT
DTSTART;TZID=America/Toronto:20250622T150000
DTEND;TZID=America/Toronto:20250622T180000
DTSTAMP:20260421T042148
CREATED:20250612T222435Z
LAST-MODIFIED:20250612T222435Z
UID:1448-1750604400-1750615200@www.markhamartscouncil.com
SUMMARY:Sandeep Swaminathan
DESCRIPTION:Mostly Non English Music – Yes \nGenre(s) -Bollywood and Tamil
URL:https://www.markhamartscouncil.com/event/sandeep-swaminathan/
LOCATION:Jakes on Main\, Jakes on Main\, markham\, Ontario\, Canada
END:VEVENT
BEGIN:VEVENT
DTSTART;TZID=America/Toronto:20250620T180000
DTEND;TZID=America/Toronto:20250620T210000
DTSTAMP:20260421T042148
CREATED:20250612T222201Z
LAST-MODIFIED:20250612T222201Z
UID:1446-1750442400-1750453200@www.markhamartscouncil.com
SUMMARY:Raisa Orshansky and Viktor Kotov
DESCRIPTION:Genre(s) – Classical\, Pop\, Jazz\, World/Folk/Indie
URL:https://www.markhamartscouncil.com/event/raisa-orshansky-and-viktor-kotov/
LOCATION:Varley Art Gallery Courtyard\, Markham\, Ontario\, Canada
END:VEVENT
BEGIN:VEVENT
DTSTART;TZID=America/Toronto:20250619T190000
DTEND;TZID=America/Toronto:20250619T200000
DTSTAMP:20260421T042148
CREATED:20250617T143942Z
LAST-MODIFIED:20250617T144005Z
UID:1470-1750359600-1750363200@www.markhamartscouncil.com
SUMMARY:Annual General Meeting
DESCRIPTION:Topic: MAC 2025 AGM\nTime: Jun 19\, 2025 07:00 PM Eastern Time (US and Canada)\nJoin Zoom Meeting\nhttps://us02web.zoom.us/j/83234476896?pwd=EobS939skoxblpvk0lNn2NL3z2dBaU.1 \nMeeting ID: 832 3447 6896\nPasscode: 886588
URL:https://www.markhamartscouncil.com/event/annual-general-meeting/
LOCATION:Virtual
END:VEVENT
BEGIN:VEVENT
DTSTART;TZID=America/Toronto:20250614T150000
DTEND;TZID=America/Toronto:20250614T180000
DTSTAMP:20260421T042148
CREATED:20250612T221817Z
LAST-MODIFIED:20250617T143452Z
UID:1443-1749913200-1749924000@www.markhamartscouncil.com
SUMMARY:Toby Ho
DESCRIPTION:Mostly Non English Music – Yes \nGenre(s) -Rock\, Pop\, Jazz\, Electronic/Dance\, World/Folk/Indie\, Country\, oldies\, children tunes
URL:https://www.markhamartscouncil.com/event/toby-ho/
LOCATION:Unionville Arms\, Unionville Arms\, markham\, Ontario\, India
END:VEVENT
BEGIN:VEVENT
DTSTART;TZID=America/Toronto:20250613T170000
DTEND;TZID=America/Toronto:20250613T200000
DTSTAMP:20260421T042148
CREATED:20250612T214022Z
LAST-MODIFIED:20250617T143408Z
UID:1434-1749834000-1749844800@www.markhamartscouncil.com
SUMMARY:Vanessa Wang
DESCRIPTION:Genre(s) \nPop\, World/Folk/Indie
URL:https://www.markhamartscouncil.com/event/vanessa-wang/
LOCATION:Varley Art Gallery Courtyard\, Markham\, Ontario\, Canada
END:VEVENT
END:VCALENDAR